BEGIN:VCALENDAR
VERSION:2.0
PRODID:-//MAD4CHRIST INT. - ECPv6.0.13//NONSGML v1.0//EN
CALSCALE:GREGORIAN
METHOD:PUBLISH
X-WR-CALNAME:MAD4CHRIST INT.
X-ORIGINAL-URL:https://mad4christint.com
X-WR-CALDESC:Events for MAD4CHRIST INT.
REFRESH-INTERVAL;VALUE=DURATION:PT1H
X-Robots-Tag:noindex
X-PUBLISHED-TTL:PT1H
BEGIN:VTIMEZONE
TZID:UTC
BEGIN:STANDARD
TZOFFSETFROM:+0000
TZOFFSETTO:+0000
TZNAME:UTC
DTSTART:20240101T000000
END:STANDARD
END:VTIMEZONE
BEGIN:VEVENT
DTSTART;TZID=UTC:20240725T093000
DTEND;TZID=UTC:20240727T180000
DTSTAMP:20260421T235040
CREATED:20150811T123443Z
LAST-MODIFIED:20240720T080026Z
UID:1609-1721899800-1722103200@mad4christint.com
SUMMARY:MAD4CHRIST : International Youth and Young Adults Conference
DESCRIPTION:MAD4CHRIST : International Youth and Young Adults Conference\n\nDAY WORKSHOP: 9:00AM\nEVENING SESSION: 6:00PM
URL:https://mad4christint.com/event/energized-with-prayer-and-fasting-2/
LOCATION:MAD4CHRIST\, 1312 Horner Rd\, Woodbridge\, VA\, 22191\, United States
CATEGORIES:Sermons
ORGANIZER;CN="MAD4CHRIST":MAILTO:grace@ancorathemes.com
END:VEVENT
END:VCALENDAR